BEGIN:VCALENDAR
VERSION:2.0
PRODID:icalendar-ruby
CALSCALE:GREGORIAN
METHOD:PUBLISH
BEGIN:VEVENT
DTSTAMP:20260421T083726Z
UID:9-706415@thestorehouse.church
DTSTART:20261011T140000Z
DTEND:20261011T150000Z
CLASS:PUBLIC
CREATED:20260420T195538
DESCRIPTION:Morning Service
LAST-MODIFIED:20260420T195538
LOCATION:
SUMMARY:Morning Service
URL;VALUE=URI:https://thestorehouse.church/events/morning-service/2026-10-1
 1
END:VEVENT
END:VCALENDAR
