BEGIN:VCALENDAR
VERSION:2.0
PRODID:icalendar-ruby
CALSCALE:GREGORIAN
METHOD:PUBLISH
BEGIN:VEVENT
DTSTAMP:20260419T142502Z
UID:9-702270@thestorehouse.church
DTSTART:20261018T140000Z
DTEND:20261018T150000Z
CLASS:PUBLIC
CREATED:20260419T072757
DESCRIPTION:Morning Service
LAST-MODIFIED:20260419T072757
LOCATION:
SUMMARY:Morning Service
URL;VALUE=URI:https://thestorehouse.church/events/morning-service/2026-10-1
 8
END:VEVENT
END:VCALENDAR
