BEGIN:VCALENDAR
VERSION:2.0
PRODID:icalendar-ruby
CALSCALE:GREGORIAN
METHOD:PUBLISH
BEGIN:VEVENT
DTSTAMP:20260419T155007Z
UID:9-702647@thestorehouse.church
DTSTART:20261025T140000Z
DTEND:20261025T150000Z
CLASS:PUBLIC
CREATED:20260419T111047
DESCRIPTION:Morning Service
LAST-MODIFIED:20260419T111047
LOCATION:
SUMMARY:Morning Service
URL;VALUE=URI:https://thestorehouse.church/events/morning-service/2026-10-2
 5
END:VEVENT
END:VCALENDAR
