BEGIN:VCALENDAR
VERSION:2.0
PRODID:icalendar-ruby
CALSCALE:GREGORIAN
METHOD:PUBLISH
BEGIN:VEVENT
DTSTAMP:20260426T041221Z
UID:132-717792@thestorehouse.church
DTSTART:20261031T140000Z
DTEND:20261031T150000Z
CLASS:PUBLIC
CREATED:20260425T203131
DESCRIPTION:\nMatthew 18:20 says that when 2 or more gather in My name\, th
 ere I am.\n\nThis is a time for us to gather to pray.\nPray for the church
 \, our family\, leaders\, ect.\nFor breaking chains and tearing down the w
 alls of the enemy.\n \n \n \n \n \n \n \n \n \n \n \n \n \n 
 \n \n \n \n \n \n \n \n \n \n \n \n \n \n \n \n \n 
LAST-MODIFIED:20260425T203131
LOCATION:The Storehouse
SUMMARY:Prayer
URL;VALUE=URI:https://thestorehouse.church/events/prayer/2026-10-31
ATTACH;FILENAME=battle.jpg;FMTTYPE=image/jpeg:https://dq5pwpg1q8ru0.cloudfr
 ont.net/2026/01/01/01/18/52/06b4b4d4-d8f7-4f8d-aa8b-c0b7ad67d917/battle.jp
 g
END:VEVENT
END:VCALENDAR
